BEGIN:VCALENDAR
VERSION:2.0
PRODID:-//Berkeley Heights Business &amp; Civic - ECPv6.15.20//NONSGML v1.0//EN
CALSCALE:GREGORIAN
METHOD:PUBLISH
X-ORIGINAL-URL:http://berkeleyheightsbusinesscivic.com
X-WR-CALDESC:Events for Berkeley Heights Business &amp; Civic
REFRESH-INTERVAL;VALUE=DURATION:PT1H
X-Robots-Tag:noindex
X-PUBLISHED-TTL:PT1H
BEGIN:VTIMEZONE
TZID:America/New_York
BEGIN:DAYLIGHT
TZOFFSETFROM:-0500
TZOFFSETTO:-0400
TZNAME:EDT
DTSTART:20210314T070000
END:DAYLIGHT
BEGIN:STANDARD
TZOFFSETFROM:-0400
TZOFFSETTO:-0500
TZNAME:EST
DTSTART:20211107T060000
END:STANDARD
BEGIN:DAYLIGHT
TZOFFSETFROM:-0500
TZOFFSETTO:-0400
TZNAME:EDT
DTSTART:20220313T070000
END:DAYLIGHT
BEGIN:STANDARD
TZOFFSETFROM:-0400
TZOFFSETTO:-0500
TZNAME:EST
DTSTART:20221106T060000
END:STANDARD
BEGIN:DAYLIGHT
TZOFFSETFROM:-0500
TZOFFSETTO:-0400
TZNAME:EDT
DTSTART:20230312T070000
END:DAYLIGHT
BEGIN:STANDARD
TZOFFSETFROM:-0400
TZOFFSETTO:-0500
TZNAME:EST
DTSTART:20231105T060000
END:STANDARD
END:VTIMEZONE
BEGIN:VEVENT
DTSTART;TZID=America/New_York:20221014T080000
DTEND;TZID=America/New_York:20221014T090000
DTSTAMP:20260425T192411
CREATED:20220224T181130Z
LAST-MODIFIED:20221013T130921Z
UID:617-1665734400-1665738000@berkeleyheightsbusinesscivic.com
SUMMARY:Monthly Meeting\, sponsored by Embassy Suites Berkeley Heights
DESCRIPTION:The meeting will be in the Glass House at the Embassy Suites BH. \nClick HERE for further meeting details. \n  \nSponsored by Embassy Suites Berkeley Heights
URL:http://berkeleyheightsbusinesscivic.com/event/monthly-meeting-10142022/
LOCATION:Embassy Suites Berkeley Heights\, 250 Connell Dr\, Berkeley Heights\, 07922
CATEGORIES:Free Networking and Breakfast Meeting
ATTACH;FMTTYPE=image/jpeg:http://berkeleyheightsbusinesscivic.com/wp-content/uploads/2022/03/embassy-suites.jpg
END:VEVENT
BEGIN:VEVENT
DTSTART;TZID=America/New_York:20220909T080000
DTEND;TZID=America/New_York:20220909T090000
DTSTAMP:20260425T192411
CREATED:20220224T180911Z
LAST-MODIFIED:20220829T210808Z
UID:614-1662710400-1662714000@berkeleyheightsbusinesscivic.com
SUMMARY:Monthly Meeting\, sponsored by Barbara Mulcahy\, REMAX
DESCRIPTION:Sponsored by Barbara Mulcahy\, REMAX
URL:http://berkeleyheightsbusinesscivic.com/event/monthly-meeting-3-2-2-2-2/
LOCATION:Delicious Heights BH\, 428 Springfield Ave\, Berkeley Heights\, NJ\, 07922\, United States
CATEGORIES:Free Networking and Breakfast Meeting
ATTACH;FMTTYPE=image/jpeg:http://berkeleyheightsbusinesscivic.com/wp-content/uploads/2022/04/RMIALogoBalloon.jpg
END:VEVENT
BEGIN:VEVENT
DTSTART;VALUE=DATE:20220901
DTEND;VALUE=DATE:20221001
DTSTAMP:20260425T192411
CREATED:20220831T164117Z
LAST-MODIFIED:20220908T131922Z
UID:1997-1661990400-1664582399@berkeleyheightsbusinesscivic.com
SUMMARY:Berkeley Heights RESTAURANT MONTH
DESCRIPTION:2022 Berkeley Heights Restaurant Month\n\n\nBerkeley Heights Restaurant Month returns for its sixth year on Sept. 1 and Berkeley Heights Business & Civic members are being asked to step up to the plate! \nDuring last year’s event\, nearly two dozen local restaurants offered prix-fixe menus and exclusive deals as part of the month-long culinary experience. This year\, a team of Restaurant Month volunteers will surprise random customers of participating establishments with $25 gift cards – delighting customers and providing social media moments that will be posted on Instagram and Facebook. The hope is to build some excitement – and income – for local eateries. \nBHB&C members are being asked to contribute to a fund that will buy these gift cards from participating establishments. All contributions – $50\, $100 or $200 – are welcome. \nIt’s a delicious opportunity to support our beloved local restaurants which have faced immense challenges these past 2 ½ years. Restaurant Month will list all contributors on the Restaurant Month Website. The website will be updated weekly with the specials offered by each establishment. \nPlease make checks payable to BHB&C and mark “Restaurant Month.” Checks can be mailed to BHB&C\, 261 Springfield Ave.\, Suite 202\, Berkeley Heights\, NJ 07922 or call us to have a volunteer pick up the contribution at your location. \nAs of this writing\, 23 establishments have confirmed their participation: \nBubbakoo’s Burrito’s \nCharkoal BBQ and Café \nCoffee Culture \nCousins Deli \nCraft Bagel Company \nDelicious Heights \nDiMaio’s Cucina \nDomino’s Pizza \nGrain & Cane \nGrazi’s Kitchen \nLa Rosa Chicken & Grill \nLupa Ristorante \nNagoya Sushi Restaurant and Tiki Bar \nNeelam Fine Indian Cuisine \nPak American Hala Grill \nPatria Station Cafe \nProud Thai Cookery \nRita’s Ice of Berkeley Heights \nSeoulite’s Restaurant \nStrega Bistro \nSubzone\, Home of the Jersey Jammer \nTrap Rock Restaurant & Brewery \nVine Republic \nQuestions may be directed to: \nGail Nelson \nRestaurant Month Co-Chair gailfnelson@gmail.com  T: 908-310-0555 \nDr. Patrick Smith\, \nBHB&C bhbusinessandcivic@gmail.com T: 908-464-8899 \n\nGIFT CARD SPONSOR FORM
URL:http://berkeleyheightsbusinesscivic.com/event/bh-restuarant-month/
LOCATION:Downtown Berkeley Heights\, Berkeley Heights\, NJ\, 07922\, United States
CATEGORIES:special
ATTACH;FMTTYPE=image/jpeg:http://berkeleyheightsbusinesscivic.com/wp-content/uploads/2022/08/restuarant-month-2022.jpg
END:VEVENT
BEGIN:VEVENT
DTSTART;TZID=America/New_York:20220615T170000
DTEND;TZID=America/New_York:20220615T190000
DTSTAMP:20260425T192411
CREATED:20220512T212343Z
LAST-MODIFIED:20220512T212343Z
UID:1676-1655312400-1655319600@berkeleyheightsbusinesscivic.com
SUMMARY:BHB&C Free After Hours Social
DESCRIPTION:Celebrate the year and the BH Downtown Summer Block Party!  sponsored by BHB&C
URL:http://berkeleyheightsbusinesscivic.com/event/after-hours-social-3-2-2-2-3/
LOCATION:Delicious Heights BH\, 428 Springfield Ave\, Berkeley Heights\, NJ\, 07922\, United States
CATEGORIES:special
ATTACH;FMTTYPE=image/jpeg:http://berkeleyheightsbusinesscivic.com/wp-content/uploads/2022/05/cocktails.jpg
END:VEVENT
BEGIN:VEVENT
DTSTART;TZID=America/New_York:20220610T080000
DTEND;TZID=America/New_York:20220610T090000
DTSTAMP:20260425T192411
CREATED:20220224T180731Z
LAST-MODIFIED:20220607T204331Z
UID:611-1654848000-1654851600@berkeleyheightsbusinesscivic.com
SUMMARY:No June Meeting - Join us for the wrap-up party next Wednesday!
DESCRIPTION:
URL:http://berkeleyheightsbusinesscivic.com/event/monthly-meeting-3-2-2-2/
LOCATION:Berkeley Heights Town Hall\, 29 Park Ave\, Berkeley Heights\, NJ\, 07922
CATEGORIES:Free Networking and Breakfast Meeting
END:VEVENT
BEGIN:VEVENT
DTSTART;TZID=America/New_York:20220605T130000
DTEND;TZID=America/New_York:20220605T160000
DTSTAMP:20260425T192411
CREATED:20220206T180452Z
LAST-MODIFIED:20220831T194041Z
UID:211-1654434000-1654444800@berkeleyheightsbusinesscivic.com
SUMMARY:BH Downtown Summer Block Party
DESCRIPTION:Calling all residents\, businesses\, clubs\, and non-profit organizations\nNow is the time for your business or organization to start planning for the biggest event of the summer! After a two-year pandemic hiatus\, Berkeley Heights Business & Civic has announced the return of the overwhelming popular Berkeley Heights Downtown Summer Block Party! Scheduled for Sunday\, June 5\, 2022 – earlier in the year to allow more participation before the summer recess – from 1:00-4:00 pm\, (a shorter time frame to assist church traffic on Sunday)\, the Downtown Summer Block Party will be held on Springfield Ave.\, from Snyder Ave. to Plainfield Ave. The timing of the event has also been arranged to allow residents to visit downtown restaurants before\, during or after the event. Open to the public\, with free rides and activities for kids\, the Block Party will be a celebration of everything that is Berkeley Heights – Businesses\, schools – public and private – restaurants\, youth groups\, clubs\, service organizations\, churches\, sports groups\, township departments and first responders. Less a fundraiser (any profits\, after expenses\, will be split between the town’s First Responders)\, the Block Party will feature local entertainers\, rides\, games\, food trucks and activities. Each organization will be asked to provide an activity or give-away at their booth site. Those businesses or organizations that can’t attend in person have the opportunity to sponsor children’s activities. Local entertainers are being sought for the main stage\, sponsored by Union County Freeholders. If you would like to showcase your garage band\, dance group\, martial arts club\, this is your chance to shine. Sponsorships are now available\, and we are currently taking reservations for activity space. Do you have an activity that will spotlight your business or organization? It’s a great time to promote your organization – all local service clubs and non-profits will be on the street. Have a local restaurant? Be known! Companies that sponsor a ride or activity will be promoted on the ride and on all press releases. Join local businesses: The Liberty Group\, Delicious Heights\, Tapinto\, Massage Envy\, Smith Chiropractic and Taylor Rental Center as sponsors for this year’s festivities. Berkeley Heights Business & Civic is an organization made up of local retail\, service and professional businesses who are working hand in hand with local government for the benefit of all residents of Berkeley Heights. Networking\, education and promoting the Berkeley Heights business community are organization objectives. For more information\, contact the event co-chairs: Paul Neuwirth at Taylor Rental Center 908 464-9111 or Dr. Patrick Smith at Smith Chiropractic 908 464-8899.   2022 SPONSOR APPLICATION
URL:http://berkeleyheightsbusinesscivic.com/event/block-party/
LOCATION:Downtown Berkeley Heights\, Berkeley Heights\, NJ\, 07922\, United States
CATEGORIES:special
ATTACH;FMTTYPE=application/pdf:http://berkeleyheightsbusinesscivic.com/wp-content/uploads/2022/02/BHBC-block-party-11x17_2022.pdf
END:VEVENT
BEGIN:VEVENT
DTSTART;TZID=America/New_York:20220513T080000
DTEND;TZID=America/New_York:20220513T090000
DTSTAMP:20260425T192411
CREATED:20220224T140140Z
LAST-MODIFIED:20220509T182908Z
UID:608-1652428800-1652432400@berkeleyheightsbusinesscivic.com
SUMMARY:Monthly Meeting\, sponsored by BH VFW post 6259
DESCRIPTION:sponsored by BH VFW Post 6259
URL:http://berkeleyheightsbusinesscivic.com/event/monthly-meeting-3-2-2/
LOCATION:BH VFW Post 6259\, 15 Locust Ave\, Berkeley Heights\, 07922
CATEGORIES:Free Networking and Breakfast Meeting
ATTACH;FMTTYPE=image/jpeg:http://berkeleyheightsbusinesscivic.com/wp-content/uploads/2022/03/vfw.jpg
END:VEVENT
BEGIN:VEVENT
DTSTART;TZID=America/New_York:20220408T080000
DTEND;TZID=America/New_York:20220408T090000
DTSTAMP:20260425T192411
CREATED:20220224T135942Z
LAST-MODIFIED:20220403T185111Z
UID:605-1649404800-1649408400@berkeleyheightsbusinesscivic.com
SUMMARY:Monthly Meeting\, sponsored by Fred Luthy\, Avatar Telecom & Energy Solutions
DESCRIPTION:Sponsored by Fred Luthy\, Avatar Telecom & Energy Solutions
URL:http://berkeleyheightsbusinesscivic.com/event/monthly-meeting-3-2/
LOCATION:Delicious Heights BH\, 428 Springfield Ave\, Berkeley Heights\, NJ\, 07922\, United States
CATEGORIES:Free Networking and Breakfast Meeting
ATTACH;FMTTYPE=image/jpeg:http://berkeleyheightsbusinesscivic.com/wp-content/uploads/2022/03/cropped-avatar-logo.jpg
END:VEVENT
BEGIN:VEVENT
DTSTART;TZID=America/New_York:20220311T080000
DTEND;TZID=America/New_York:20220311T090000
DTSTAMP:20260425T192411
CREATED:20220214T224815Z
LAST-MODIFIED:20220403T185113Z
UID:242-1646985600-1646989200@berkeleyheightsbusinesscivic.com
SUMMARY:Monthly Meeting\, sponsored by Randy Mackenzie at Transcendental Meditation Center of Summit
DESCRIPTION:Hosted by Randy Mackenzie at Transcendental Meditation Center of Summit
URL:http://berkeleyheightsbusinesscivic.com/event/monthly-meeting-3/
LOCATION:Delicious Heights BH\, 428 Springfield Ave\, Berkeley Heights\, NJ\, 07922\, United States
CATEGORIES:Free Networking and Breakfast Meeting
ATTACH;FMTTYPE=image/jpeg:http://berkeleyheightsbusinesscivic.com/wp-content/uploads/2022/03/tm-of-cummit.jpg
END:VEVENT
END:VCALENDAR