BEGIN:VCALENDAR
VERSION:2.0
PRODID:-//Berkeley Heights Business &amp; Civic - ECPv6.15.20//NONSGML v1.0//EN
CALSCALE:GREGORIAN
METHOD:PUBLISH
X-WR-CALNAME:Berkeley Heights Business &amp; Civic
X-ORIGINAL-URL:http://berkeleyheightsbusinesscivic.com
X-WR-CALDESC:Events for Berkeley Heights Business &amp; Civic
REFRESH-INTERVAL;VALUE=DURATION:PT1H
X-Robots-Tag:noindex
X-PUBLISHED-TTL:PT1H
BEGIN:VTIMEZONE
TZID:America/New_York
BEGIN:DAYLIGHT
TZOFFSETFROM:-0500
TZOFFSETTO:-0400
TZNAME:EDT
DTSTART:20250309T070000
END:DAYLIGHT
BEGIN:STANDARD
TZOFFSETFROM:-0400
TZOFFSETTO:-0500
TZNAME:EST
DTSTART:20251102T060000
END:STANDARD
BEGIN:DAYLIGHT
TZOFFSETFROM:-0500
TZOFFSETTO:-0400
TZNAME:EDT
DTSTART:20260308T070000
END:DAYLIGHT
BEGIN:STANDARD
TZOFFSETFROM:-0400
TZOFFSETTO:-0500
TZNAME:EST
DTSTART:20261101T060000
END:STANDARD
BEGIN:DAYLIGHT
TZOFFSETFROM:-0500
TZOFFSETTO:-0400
TZNAME:EDT
DTSTART:20270314T070000
END:DAYLIGHT
BEGIN:STANDARD
TZOFFSETFROM:-0400
TZOFFSETTO:-0500
TZNAME:EST
DTSTART:20271107T060000
END:STANDARD
END:VTIMEZONE
BEGIN:VEVENT
DTSTART;TZID=America/New_York:20260429T180000
DTEND;TZID=America/New_York:20260429T200000
DTSTAMP:20260425T135352
CREATED:20251011T181238Z
LAST-MODIFIED:20260415T205712Z
UID:4571-1777485600-1777492800@berkeleyheightsbusinesscivic.com
SUMMARY:Monthly Meeting - Afterhours at Delicious Heights
DESCRIPTION:This April’s meeting will be an after hours social on Wednesday April 29th from 6-8pm. \nThis meeting is a joint networking event from BHBC and NPBiz. \nSpeed networking; and social media tips from Paulina Nieroda\, aka Nova Dama. \nEnjoy networking with appetizers and drinks; Limited to 30 guests. \nGuests are required to pay $5 via Venmo (@bhbcnj) to reserve their spot. This pays for your first drink of the night. \n \nLocation: Delicious Heights
URL:http://berkeleyheightsbusinesscivic.com/event/monthly-meeting-afterhours-at-delicious-heights-2/
LOCATION:Delicious Heights BH\, 428 Springfield Ave\, Berkeley Heights\, NJ\, 07922\, United States
CATEGORIES:Free Networking and Breakfast Meeting
ATTACH;FMTTYPE=image/png:http://berkeleyheightsbusinesscivic.com/wp-content/uploads/2025/10/After-hours-2.png
ORGANIZER;CN="Berkeley Heights Business & Civic":MAILTO:bhbcnj@gmail.com
END:VEVENT
BEGIN:VEVENT
DTSTART;TZID=America/New_York:20260508T080000
DTEND;TZID=America/New_York:20260508T090000
DTSTAMP:20260425T135352
CREATED:20251011T180904Z
LAST-MODIFIED:20251011T180957Z
UID:4567-1778227200-1778230800@berkeleyheightsbusinesscivic.com
SUMMARY:Monthly Meeting - sponsored by VFW Post 6259
DESCRIPTION:This May’s meeting will be on Friday\, May 8th from 8-9am. Location VFW Post 6259. \n\nUpdates on the 6th annual Block Party
URL:http://berkeleyheightsbusinesscivic.com/event/may-2026-monthly-meeting-sponsored-by-vfw-post-6259/
LOCATION:BH VFW Post 6259\, 15 Locust Ave\, Berkeley Heights\, 07922
CATEGORIES:Free Networking and Breakfast Meeting
ATTACH;FMTTYPE=image/png:http://berkeleyheightsbusinesscivic.com/wp-content/uploads/2023/01/VFW-LOGO-200-PX.png
END:VEVENT
BEGIN:VEVENT
DTSTART;TZID=America/New_York:20260607T120000
DTEND;TZID=America/New_York:20260607T160000
DTSTAMP:20260425T135352
CREATED:20260305T234921Z
LAST-MODIFIED:20260416T023851Z
UID:4185-1780833600-1780848000@berkeleyheightsbusinesscivic.com
SUMMARY:2026 BH Downtown Summer Block Party - June 7\, 2026
DESCRIPTION:2026 BH Downtown Summer Block Party\nRegistration is now open! \nTo be included in banners/posters\, you must register by April 18th.\nSorry\, we are no longer accepting additional food vendors.\n  \n2026 BH Summer Block Party Sponsor Form\n \n \nCalling all residents\, businesses\, clubs\, and non-profit organizations\nNow is the time for your business or organization to start planning for the biggest community event of the summer!  Berkeley Heights Business & Civic is proud to announced the return of the overwhelmingly popular Berkeley Heights Downtown Summer Block Party. \nScheduled for Sunday\, June 7\, 2026 from 12 – 4 pm\, the Downtown Summer Block Party will be held on Springfield Ave.\, from Snyder Ave. to Plainfield Ave. \nOur 2024 Block Party hosted ten to twelve thousand locals and another great crowd is anticipated. Open to the public\, with free rides and activities for kids\, the block party will be a celebration of everything that is Berkeley Heights – businesses\, schools\, restaurants\, youth groups\, clubs\, service organizations\, churches\, sports groups\, township departments\, and first responders. In addition\, this is a fundraiser – profits\, after operating expenses\, will be split between the town’s First Responders. The block party will feature local entertainers\, rides\, games\, food and drink for purchase from local restaurants\, food trucks\, and free activities. \nEach participating organization is asked to provide an activity or giveaway at its booth site. Please NO sales on the street unless you are a food vendor. It’s a block party rather than a street fair – we created this event to be a free family event. Those businesses or organizations that can’t attend in person have the opportunity to sponsor children’s activities. Local entertainers are being sought for the main stage. If you would like to showcase your garage band\, dance group\, martial arts club\, this is your chance to shine. \nSponsorships are available thru April 15th\, and we are currently taking reservations for activity space thru May 19th. Do you have an activity that will spotlight your business or organization?  It’s a great time to promote your organization – all local service clubs and non-profits will be on the street. Have a local restaurant? Be known! Companies that sponsor a ride or activity will be promoted on the ride and on all press releases. \nBerkeley Heights Business & Civic is an organization made up of local retail\, service\, and professional businesses that are working hand in hand with local government for the benefit of all residents of Berkeley Heights. Networking\, education\, and promoting the Berkeley Heights business community are organization objectives. \nPlease register your business to participate by May 25th and join the party. For more information email bhbusinessandcivic@gmail.com or contact Chris Wang of Runnymede Capital Management at 732-595-8222.   \n2026 BH Summer Block Party SponsoForm
URL:http://berkeleyheightsbusinesscivic.com/event/2026-bh-downtown-summer-block-party-june-7-2026/
LOCATION:Downtown Berkeley Heights\, Berkeley Heights\, NJ\, 07922\, United States
CATEGORIES:special
ATTACH;FMTTYPE=image/jpeg:http://berkeleyheightsbusinesscivic.com/wp-content/uploads/2026/03/block-party-2026.jpg
END:VEVENT
END:VCALENDAR